BEGIN:VCALENDAR
VERSION:2.0
PRODID:-//eventon.com NONSGML v1.0//EN
CALSCALE:GREGORIAN
METHOD:PUBLISH
BEGIN:VEVENT
UID:69e7318f0034f
DTSTAMP:20260421T081303Z
DTSTART:20230212T030000Z
DTEND:20230212T060000Z
LOCATION:
SUMMARY:Mississauga Steelheads Pucks N Paws Game
DESCRIPTION:What&#8217;s better that watching a hockey game? Watching it wi
 th your pup at your side! On Saturday February 11th\,  the Mississauga Stee
 lheads are excited to host their 6th annual Pucks N Paws Game! Fans can enj
 oy an exciting game of OHL Hockey with their pups at their side. There will
 [..]\nhttps://looklocal.ca/blog/events/mississauga-steelheads-pucks-n-paws-
 game/
URL:https://looklocal.ca/blog/events/mississauga-steelheads-pucks-n-paws-game/
END:VEVENT
END:VCALENDAR