BEGIN:VCALENDAR
VERSION:2.0
PRODID:-//eventon.com NONSGML v1.0//EN
CALSCALE:GREGORIAN
METHOD:PUBLISH
BEGIN:VEVENT
UID:69ec114bbd54c
DTSTAMP:20260425T005643Z
DTSTART:20230418T103000Z
DTEND:20230418T113000Z
LOCATION:
SUMMARY:Daytime Exhibition Tour: Helen Cammock
DESCRIPTION:Join us for a daytime tour of our Winter exhibition\, &nbsp;Hel
 en Cammock: They Call It Idlewild\,  led by Associate Curator &amp; Registr
 ar Theresa Wang. Recipient of the Max Mara Art Prize for Women and a joint 
 recipient of The Turner Prize\,  British artist Helen Cammock has a multi-d
 isciplinary practice that stretches[..]\nhttps://looklocal.ca/blog/events/d
 aytime-exhibition-tour-helen-cammock/
URL:https://looklocal.ca/blog/events/daytime-exhibition-tour-helen-cammock/
END:VEVENT
END:VCALENDAR