BEGIN:VCALENDAR
VERSION:2.0
PRODID:-//eventon.com NONSGML v1.0//EN
CALSCALE:GREGORIAN
METHOD:PUBLISH
BEGIN:VEVENT
UID:69e8918db380b
DTSTAMP:20260422T091453Z
DTSTART:20230422T010000Z
DTEND:20230422T010000Z
LOCATION:
SUMMARY:Repair Café
DESCRIPTION:Repair Café Residents are invited to bring their broken/damage
 d small household items and our volunteers will help you fix them\,  keepin
 g them out of the landfill site.&nbsp; Lamps\,  fans\,  toasters\,  clocks\
 ,  some toys\,  etc. New volunteers welcome.&nbsp; Please\,  no electronics
  (CDs\,  TVs\,  stereos). Beachway Park Burlington Green Eco-Hub 1094 Lakes
 hore[..]\nhttps://looklocal.ca/blog/events/repair-cafe/
URL:https://looklocal.ca/blog/events/repair-cafe/
END:VEVENT
END:VCALENDAR