BEGIN:VCALENDAR
VERSION:2.0
PRODID:-//eventon.com NONSGML v1.0//EN
CALSCALE:GREGORIAN
METHOD:PUBLISH
BEGIN:VEVENT
UID:69e91382a4f4f
DTSTAMP:20260422T182922Z
DTSTART:20230608T210000Z
DTEND:20231029T030000Z
LOCATION:Joseph Brant Museum 1240 North Shore Boulevard East
SUMMARY:Canada's Waterscapes
DESCRIPTION:Canada’s Waterscapes Yours to Enjoy\,  Explore and Protect &n
 bsp; &nbsp;Explore some of Canada’s unique estuaries\,  rivers\,  lakes\,
   oceans\,  and wetlands in this interactive exhibition from the Canadian M
 useum of Nature. Discover the amazing diversity of life and the environment
 al challenges facing these ecosystems today. This exhibition features wildl
 ife specimens\,  mini[..]\nhttps://looklocal.ca/blog/events/canadas-watersc
 apes/
URL:https://looklocal.ca/blog/events/canadas-waterscapes/
END:VEVENT
END:VCALENDAR