BEGIN:VCALENDAR
VERSION:2.0
PRODID:-//eventon.com NONSGML v1.0//EN
CALSCALE:GREGORIAN
METHOD:PUBLISH
BEGIN:VEVENT
UID:69e7895a4768b
DTSTAMP:20260421T142738Z
DTSTART:20230625T190000Z
DTEND:20230625T210000Z
LOCATION:
SUMMARY:Paint Event at Grain & Grit
DESCRIPTION:Join a local artist for a night of painting and beer. She&#8217
 ;ll guide you through an acrylic painting step-by-step\,  no experience req
 uired! Tickets:&nbsp;https://www.eventbrite.ca/e/paint-night-grain-grit-tic
 kets-590455657767?aff=ebdsoporgprofile\nhttps://looklocal.ca/blog/events/pa
 int-event-at-grain-grit/
URL:https://looklocal.ca/blog/events/paint-event-at-grain-grit/
END:VEVENT
END:VCALENDAR