BEGIN:VCALENDAR
VERSION:2.0
PRODID:-//eventon.com NONSGML v1.0//EN
CALSCALE:GREGORIAN
METHOD:PUBLISH
BEGIN:VEVENT
UID:69e768e41194d
DTSTAMP:20260421T120908Z
DTSTART:20231202T060000Z
DTEND:20231202T105000Z
LOCATION:
SUMMARY:State Ballet Theatre of Ukraine Snow White and the Seven Dwarfs
DESCRIPTION:The fairy tale will come to life in dance and be staged by the 
 State Ballet Theater of Ukraine. Our ballet is a story about love\,  friend
 ship\,  witchcraft\,  about the eternal struggle between good and evil. The
 re are fairy tales that inspire creators to create performances in differen
 t genres and[..]\nhttps://looklocal.ca/blog/events/state-ballet-theatre-of-
 ukraine-snow-white-and-the-seven-dwarfs/
URL:https://looklocal.ca/blog/events/state-ballet-theatre-of-ukraine-snow-white-and-the-seven-dwarfs/
END:VEVENT
END:VCALENDAR