BEGIN:VCALENDAR
VERSION:2.0
PRODID:-//eventon.com NONSGML v1.0//EN
CALSCALE:GREGORIAN
METHOD:PUBLISH
BEGIN:VEVENT
UID:69e5ee22e5b56
DTSTAMP:20260420T091306Z
DTSTART:20231218T060000Z
DTEND:20231218T105000Z
LOCATION:
SUMMARY:THE DEBATERS LIVE on Tour Holiday Special
DESCRIPTION:The Debaters Live Holiday Tour is the comedy stage show where c
 omics go mistletoe to toe in a battle of laughs and logic and the audience 
 picks the winner. This festively funny show features host Steve Patterson a
 nd two of Canada’s top comics performing stand-up. But that’s not all. 
 Before[..]\nhttps://looklocal.ca/blog/events/the-debaters-live-on-tour-holi
 day-special/
URL:https://looklocal.ca/blog/events/the-debaters-live-on-tour-holiday-special/
END:VEVENT
END:VCALENDAR