BEGIN:VCALENDAR
VERSION:2.0
PRODID:-//eventon.com NONSGML v1.0//EN
CALSCALE:GREGORIAN
METHOD:PUBLISH
BEGIN:VEVENT
UID:69e7e02e7621b
DTSTAMP:20260421T203806Z
DTSTART:20230624T210000Z
DTEND:20230625T030000Z
LOCATION:
SUMMARY:Craftadian Market\,  a Showcase of Locally Made
DESCRIPTION:Fostering community support and boosting the local economy —&
 nbsp;Craftadian&nbsp;is thrilled to announce the return of the Burlington M
 arket at the Ron Joyce Centre on Saturday\,  June 24\,  from 10 a.m. to 4 p
 .m.&nbsp; With over 65 talented artisans from Ontario\,  this vibrant marke
 t is the perfect opportunity to shop locally[..]\nhttps://looklocal.ca/blog
 /events/craftadian-market-a-showcase-of-locally-made/
URL:https://looklocal.ca/blog/events/craftadian-market-a-showcase-of-locally-made/
END:VEVENT
END:VCALENDAR