BEGIN:VCALENDAR
VERSION:2.0
PRODID:-//eventon.com NONSGML v1.0//EN
CALSCALE:GREGORIAN
METHOD:PUBLISH
BEGIN:VEVENT
UID:69ed750734cee
DTSTAMP:20260426T021431Z
DTSTART:20230628
DTEND:20230629
LOCATION:Summer and Grace Gallery 350 Lakeshore Road East
SUMMARY:Oakville On Canvas
DESCRIPTION:Come experience Oakville through the eyes of the ever-talented 
 Peter Cheung. Opening reception June 28th 4-7pm at Summer and Grace Gallery
 .\nhttps://looklocal.ca/blog/events/oakville-on-canvas/
URL:https://looklocal.ca/blog/events/oakville-on-canvas/
END:VEVENT
END:VCALENDAR