BEGIN:VCALENDAR
VERSION:2.0
PRODID:-//eventon.com NONSGML v1.0//EN
CALSCALE:GREGORIAN
METHOD:PUBLISH
BEGIN:VEVENT
UID:69eb7ec4d1d73
DTSTAMP:20260424T143132Z
DTSTART:20230812T210000Z
DTEND:20230812T230000Z
LOCATION:
SUMMARY:Saturday Art Smarts
DESCRIPTION:Our Saturday Art Smarts series for kids is back for the summer 
 season! In our monthly Saturday Art Smarts series\,  your little artist wil
 l join our artist instructor to learn new art techniques here at Oakville G
 alleries\,  inspired by our lovely scenic location. Each session offers dif
 ferent hands-on art making[..]\nhttps://looklocal.ca/blog/events/saturday-a
 rt-smarts/
URL:https://looklocal.ca/blog/events/saturday-art-smarts/
END:VEVENT
END:VCALENDAR