BEGIN:VCALENDAR
VERSION:2.0
PRODID:-//eventon.com NONSGML v1.0//EN
CALSCALE:GREGORIAN
METHOD:PUBLISH
BEGIN:VEVENT
UID:69e62366a98b5
DTSTAMP:20260420T130022Z
DTSTART:20231014T230000Z
DTEND:20231015T020000Z
LOCATION:Oakville Galleries 1306 Lakeshore East
SUMMARY:Family Saturdays
DESCRIPTION:Family Saturdays Fall 2023 Join us at the Gallery each month wi
 th family and friends for free art activities inspired by our current exhib
 itions. Curious about what happens at Family Saturdays? Every event is diff
 erent from the last—we&#8217;ve created handmade paper\,  sketchbooks\,  
 landscapes\,  and self-portraits\,  just to name a few[..]\nhttps://lookloc
 al.ca/blog/events/family-saturdays/
URL:https://looklocal.ca/blog/events/family-saturdays/
END:VEVENT
END:VCALENDAR