BEGIN:VCALENDAR
VERSION:2.0
PRODID:-//eventon.com NONSGML v1.0//EN
CALSCALE:GREGORIAN
METHOD:PUBLISH
BEGIN:VEVENT
UID:69e67aef718af
DTSTAMP:20260420T191351Z
DTSTART:20231209T200000Z
DTEND:20231210T010000Z
LOCATION:St. Aidan's Church 318 Queen Mary Dr. Oakville
SUMMARY:Christmas Bake & Book Sale
DESCRIPTION:Christmas Bake &amp; Book Sale\nhttps://looklocal.ca/blog/event
 s/christmas-bake-book-sale/
URL:https://looklocal.ca/blog/events/christmas-bake-book-sale/
END:VEVENT
END:VCALENDAR