BEGIN:VCALENDAR
VERSION:2.0
PRODID:-//eventon.com NONSGML v1.0//EN
CALSCALE:GREGORIAN
METHOD:PUBLISH
BEGIN:VEVENT
UID:69ec0110b8975
DTSTAMP:20260424T234728Z
DTSTART:20240129T030000Z
DTEND:20240129T105000Z
LOCATION:Burlington Performing Arts Centre 440 Locust St\,  Burlington\,  ON L7S 1T7
SUMMARY:LIVE & LOCAL Featuring Thom Anthony & James Oliver\,  and Sophia Kathe with Special Guest KEVIN FOX
DESCRIPTION:BPAC’s ‘Live &amp; Local’ Artist Development Initiative s
 upports the development of local artists by providing them with professiona
 l support and performance opportunities in our world-class venue\,  while a
 lso offering mentorship by connecting them with established industry profes
 sionals. THOM ANTHONY &amp; JAMES OLIVER Thom Anthony singer\,  songwriter 
 and James Oliver\,  songwriter\, [..]\nhttps://looklocal.ca/blog/events/liv
 e-local-featuring-thom-anthony-james-oliver-and-sophia-kathe-with-special-g
 uest-kevin-fox/
URL:https://looklocal.ca/blog/events/live-local-featuring-thom-anthony-james-oliver-and-sophia-kathe-with-special-guest-kevin-fox/
END:VEVENT
END:VCALENDAR