BEGIN:VCALENDAR
VERSION:2.0
PRODID:-//eventon.com NONSGML v1.0//EN
CALSCALE:GREGORIAN
METHOD:PUBLISH
BEGIN:VEVENT
UID:69e57f87a8e2f
DTSTAMP:20260420T012111Z
DTSTART:20240512T063000Z
DTEND:20240512T093000Z
LOCATION:Burlington Polish Hall 2316 Fairview Street Burlington
SUMMARY:Spring Fling with Peel Regional Police Pipe Band Fundraiser
DESCRIPTION:Enjoy an evening out with the Peel Regional Police Pipe Band\, 
  Islay and the Schiehallion Dancers. There will be a silent auction &amp; s
 nacks. Tickets are $25 each and can be purchased through Eventbrite\,  by e
 mail at birdj@bellnet.ca or by calling 905-332-9081. This is a non-alcohol 
 event. Come out and[..]\nhttps://looklocal.ca/blog/events/spring-fling-with
 -peel-regional-police-pipe-band-fundraiser/
URL:https://looklocal.ca/blog/events/spring-fling-with-peel-regional-police-pipe-band-fundraiser/
END:VEVENT
END:VCALENDAR