BEGIN:VCALENDAR
VERSION:2.0
PRODID:-//eventon.com NONSGML v1.0//EN
CALSCALE:GREGORIAN
METHOD:PUBLISH
BEGIN:VEVENT
UID:69e646a51fb03
DTSTAMP:20260420T153045Z
DTSTART:20240426T050000Z
DTEND:20240614T070000Z
LOCATION:Beyond Pottery Unit 116\,  3228 South Service Road\,  Burlington\,  ON
SUMMARY:Pottery Wheel and Sculpture for Teens
DESCRIPTION:This course is for Teens\,  13 \,  learning sculptural\,  funct
 ional and wheel thrown ceramic techniques. Start Date: April 25 2024 Finish
  Date: June 13 2024 Time: 6pm &#8211; 8pm Instructor: Shahrzad Amin Join us
  on Thursday afternoons for our Clay Teens course. Learn various functional
 \,  sculptural and wheel thrown ceramic[..]\nhttps://looklocal.ca/blog/even
 ts/pottery-wheel-and-sculpture-for-teens/
URL:https://looklocal.ca/blog/events/pottery-wheel-and-sculpture-for-teens/
END:VEVENT
END:VCALENDAR