BEGIN:VCALENDAR
VERSION:2.0
PRODID:-//eventon.com NONSGML v1.0//EN
CALSCALE:GREGORIAN
METHOD:PUBLISH
BEGIN:VEVENT
UID:69e74ffebdbcc
DTSTAMP:20260421T102254Z
DTSTART:20240519T000000Z
DTEND:20240601T133000Z
LOCATION:Beyond Pottery Unit 116\,  3228 South Service Road\,  Burlington\,  ON
SUMMARY:Pottery - Artist Mini Series - Fish sculpting
DESCRIPTION:Date: May 18 2024 Time: 1pm- 2:30 pm Instructor: Lauren Sinett 
 In this artist mini series I will teach you step by step how I sculpt my sm
 all fish ornaments. The workshop will take place over a three week period a
 nd is for beginners and those who have experience working[..]\nhttps://look
 local.ca/blog/events/pottery-artist-mini-series-fish-sculpting/
URL:https://looklocal.ca/blog/events/pottery-artist-mini-series-fish-sculpting/
END:VEVENT
END:VCALENDAR