BEGIN:VCALENDAR
VERSION:2.0
PRODID:-//eventon.com NONSGML v1.0//EN
CALSCALE:GREGORIAN
METHOD:PUBLISH
BEGIN:VEVENT
UID:69e5f332e5763
DTSTAMP:20260420T093442Z
DTSTART:20240623T000000Z
DTEND:20240623T020000Z
LOCATION:HMCS Haida Pier 9-658 Catharine St N
SUMMARY:Spanish Language Day at HMCS Haida
DESCRIPTION:Everyone aboard HMCS Haida for Spanish Language Day! Dive into 
 the 80-year history of this iconic ship\,  as our Spanish-speaking voluntee
 rs guide you in a 1-hour tour\,  delving into the fascinating details of Ca
 nada’s past. See you there! There are four tours happening (1pm\,  1:30pm
 \,  2pm\,  and 2:30pm) during this[..]\nhttps://looklocal.ca/blog/events/sp
 anish-language-day-at-hmcs-haida/
URL:https://looklocal.ca/blog/events/spanish-language-day-at-hmcs-haida/
END:VEVENT
END:VCALENDAR