BEGIN:VCALENDAR
VERSION:2.0
PRODID:-//eventon.com NONSGML v1.0//EN
CALSCALE:GREGORIAN
METHOD:PUBLISH
BEGIN:VEVENT
UID:69e6579161cb8
DTSTAMP:20260420T164257Z
DTSTART:20240601T210000Z
DTEND:20240602T023000Z
LOCATION:Tim Horton's Onondaga Farms 264 Glen Morris Rd E\,  Brant\,  ON N0E 1N0
SUMMARY:Scleroderma Tims Camp Family Picnic
DESCRIPTION:Grab your friends! Grab your family! Scleroderma Society of Ont
 ario invites you to kickoff Scleroderma Awareness Month. What is Scleroderm
 a? It&#8217;s Canada&#8217;s most common rare disease!&nbsp;Join us to lear
 n more\,  support those living with Scleroderma\,  and most importantly HAV
 E FUN!&nbsp; What to Expect:&nbsp;MAM Walk\,  BBQ Lunch and tons of fun[..]
 \nhttps://looklocal.ca/blog/events/scleroderma-tims-camp-family-picnic/
URL:https://looklocal.ca/blog/events/scleroderma-tims-camp-family-picnic/
END:VEVENT
END:VCALENDAR