BEGIN:VCALENDAR
VERSION:2.0
PRODID:-//eventon.com NONSGML v1.0//EN
CALSCALE:GREGORIAN
METHOD:PUBLISH
BEGIN:VEVENT
UID:69e6f02c4ce40
DTSTAMP:20260421T033404Z
DTSTART:20250315T070000Z
DTEND:20250315T105000Z
LOCATION:Burlington Performing Arts Centre 440 Locust St\,  Burlington\,  ON L7S 1T7
SUMMARY:Classic Albums Live THE WHO - Who's Next
DESCRIPTION:BPAC favourite Classic Albums Live and its roster of A-list mus
 icians from across the country will be performing The Who’s Who’s Next 
 exactly as you remember hearing it\,  note for note\,  cut for cut. The Who
  are an English rock band formed in London in 1964. They are considered one
 [..]\nhttps://looklocal.ca/blog/events/classic-albums-live-the-who-whos-nex
 t/
URL:https://looklocal.ca/blog/events/classic-albums-live-the-who-whos-next/
END:VEVENT
END:VCALENDAR