BEGIN:VCALENDAR
VERSION:2.0
PRODID:-//eventon.com NONSGML v1.0//EN
CALSCALE:GREGORIAN
METHOD:PUBLISH
BEGIN:VEVENT
UID:69e625098b2f5
DTSTAMP:20260420T130721Z
DTSTART:20240628T063000Z
DTEND:20240628T083000Z
LOCATION:Burlington Performing Arts Centre 440 Locust St\,  Burlington\,  ON L7S 1T7
SUMMARY:RACHMANINOFF 2   BRAHMS 4
DESCRIPTION:RACHMANINOFF 2 BRAHMS 4 music as a force of nature A powerhouse
  performance on every level! Pianist Ian Parker dazzles with the breathtaki
 ng “Rocky 2”. And then\,  just when you’re catching your breath – B
 rahms storms the stage in a triumph of orchestral grandeur and profound exp
 ression. Repertoire Andrew Balfour&nbsp;Pyotr’s[..]\nhttps://looklocal.ca
 /blog/events/rachmaninoff-2-brahms-4-2/
URL:https://looklocal.ca/blog/events/rachmaninoff-2-brahms-4-2/
END:VEVENT
END:VCALENDAR