BEGIN:VCALENDAR
VERSION:2.0
PRODID:-//eventon.com NONSGML v1.0//EN
CALSCALE:GREGORIAN
METHOD:PUBLISH
BEGIN:VEVENT
UID:69e733cbced1d
DTSTAMP:20260421T082235Z
DTSTART:20240818T190000Z
DTEND:20240818T210000Z
LOCATION:Grain &amp; Grit 11 Ewen Road\,  Hamilton
SUMMARY:Paint Night
DESCRIPTION:Join a local artist for a night of painting and beer. She&#8217
 ;ll guide you through an acrylic painting step-by-step\,  no experience req
 uired! Tickets available on EventBrite:&nbsp;https://www.eventbrite.ca/e/pa
 int-night-grain-grit-tickets-885912256407?aff=ebdsoporgprofile\nhttps://loo
 klocal.ca/blog/events/paint-night/
URL:https://looklocal.ca/blog/events/paint-night/
END:VEVENT
END:VCALENDAR