BEGIN:VCALENDAR
VERSION:2.0
PRODID:-//eventon.com NONSGML v1.0//EN
CALSCALE:GREGORIAN
METHOD:PUBLISH
BEGIN:VEVENT
UID:69e8992390a5a
DTSTAMP:20260422T094715Z
DTSTART:20240928T100000Z
DTEND:20240928T150000Z
LOCATION:The old Palermo Schoolhouse 2431 Dundas Street west Oakville
SUMMARY:"Agriculture in Early Trafalgar Township" our contribution to Culture days in Oakville
DESCRIPTION:In celebration Culture days “Trafalgar Township Historical So
 ciety has created a set of experiences on “Agriculture in Trafalgar Town
 ship” as that’s what a lot of the township was…! The Old Palermo Cou
 ntry Store\,  Displays and sales of; sodas\,  vintage goods\,  penny candy\
 ,  fruit jars\,  Eaton’s catalogue goods\,  as it would have in[..]\nhttp
 s://looklocal.ca/blog/events/agriculture-in-early-trafalgar-township-our-co
 ntribution-to-culture-days-in-oakville/
URL:https://looklocal.ca/blog/events/agriculture-in-early-trafalgar-township-our-contribution-to-culture-days-in-oakville/
END:VEVENT
END:VCALENDAR