BEGIN:VCALENDAR
VERSION:2.0
PRODID:-//eventon.com NONSGML v1.0//EN
CALSCALE:GREGORIAN
METHOD:PUBLISH
BEGIN:VEVENT
UID:69e8d97b46235
DTSTAMP:20260422T142147Z
DTSTART:20241018T093000Z
DTEND:20241020T160000Z
LOCATION:
SUMMARY:CSDA 42nd Annual Symposium - Hamilton: A City Rediscovered
DESCRIPTION:Join CSDA/CCAD for our&nbsp;42nd Annual Symposium\,  &#8220;Ham
 ilton: A City Rediscovered\, &#8221; from October 18-20\,  2024.&nbsp;Dive 
 into a carefully curated agenda designed for decorative arts enthusiasts\, 
  featuring VIP access to exclusive venues\,  behind-the-scenes studio tours
 \,  and expert-led presentations and excursions. We&#8217;ve even got a pan
 el discussion with the creators and participants of[..]\nhttps://looklocal.
 ca/blog/events/csda-42nd-annual-symposium-hamilton-a-city-rediscovered/
URL:https://looklocal.ca/blog/events/csda-42nd-annual-symposium-hamilton-a-city-rediscovered/
END:VEVENT
END:VCALENDAR