BEGIN:VCALENDAR
VERSION:2.0
PRODID:-//eventon.com NONSGML v1.0//EN
CALSCALE:GREGORIAN
METHOD:PUBLISH
BEGIN:VEVENT
UID:69e8945dc5499
DTSTAMP:20260422T092653Z
DTSTART:20240914T090000Z
DTEND:20240914T130000Z
LOCATION:Station on the Green 10 Caroline St East Creemore
SUMMARY:Creemore Farmers' and Craft Market
DESCRIPTION:A weekly Farmers Market in the Village of Creemore.\nhttps://lo
 oklocal.ca/blog/events/creemore-farmers-and-craft-market/var/ri-1.l-L1
URL:https://looklocal.ca/blog/events/creemore-farmers-and-craft-market/var/ri-1.l-L1
END:VEVENT
END:VCALENDAR