BEGIN:VCALENDAR
VERSION:2.0
PRODID:-//eventon.com NONSGML v1.0//EN
CALSCALE:GREGORIAN
METHOD:PUBLISH
BEGIN:VEVENT
UID:69e9ddaf7233b
DTSTAMP:20260423T085159Z
DTSTART:20241019T140000Z
DTEND:20241019T170000Z
LOCATION:Oakville Galleries 1306 Lakeshore East
SUMMARY:Oakville Galleries: Autumn Exhibition Opening: Charles Stankievech
DESCRIPTION:Join Oakville Galleries on Saturday\,  October 19\,  for the op
 ening reception of The Desert Turned to Glass by Charles Stankievech! Spann
 ing the abyss of space and the depths of the earth\,  The Desert Turned to 
 Glass is an epic meditation on beginnings\,  endings\,  and infinity. Altog
 ether\,  the exhibition explores alternative[..]\nhttps://looklocal.ca/blog
 /events/oakville-galleries-autumn-exhibition-opening-charles-stankievech/
URL:https://looklocal.ca/blog/events/oakville-galleries-autumn-exhibition-opening-charles-stankievech/
END:VEVENT
END:VCALENDAR