BEGIN:VCALENDAR
VERSION:2.0
PRODID:-//eventon.com NONSGML v1.0//EN
CALSCALE:GREGORIAN
METHOD:PUBLISH
BEGIN:VEVENT
UID:69eb9de89e9e8
DTSTAMP:20260424T164424Z
DTSTART:20241123T150000Z
DTEND:20241123T190000Z
LOCATION:Bronte Market Square 2445 Lakeshore Rd W\,  Oakville
SUMMARY:At Home in Bronte for the Holidays Tree-Lighting Celebration
DESCRIPTION:&#8216;Tis the season\,  Bronte!&nbsp;The businesses of the Bro
 nte BIA present our annual&nbsp;At Home in Bronte for the Holidays&nbsp;Cel
 ebration\, &nbsp;which will take place on&nbsp;Saturday\,  November 23 from
  3pm to 7pm&nbsp;in Bronte Market Square&nbsp;and&nbsp;along Lakeshore Rd. 
 W between Bronte Rd. &amp; Jones St.&nbsp; Celebrate the festive season and
  experience Bronte&#8217;s charm by joining[..]\nhttps://looklocal.ca/blog/
 events/at-home-in-bronte-for-the-holidays-tree-lighting-celebration/
URL:https://looklocal.ca/blog/events/at-home-in-bronte-for-the-holidays-tree-lighting-celebration/
END:VEVENT
END:VCALENDAR