BEGIN:VCALENDAR
VERSION:2.0
PRODID:-//eventon.com NONSGML v1.0//EN
CALSCALE:GREGORIAN
METHOD:PUBLISH
BEGIN:VEVENT
UID:69ebd260213bb
DTSTAMP:20260424T202816Z
DTSTART:20241101
DTEND:20241102
LOCATION:SmileGrove Dental 250 Wyecroft Dr.\,  Unit 408
SUMMARY:SmileGrove's Charity Halloween Candy Buy-Back Program
DESCRIPTION:SmileGrove&#8217;s Charity Halloween Candy Buy-Back Program Thi
 s November\,  SmileGrove Dental invites Oakville&#8217;s young trick-or-tre
 aters to trade their extra Halloween candy for cash while supporting local 
 families in need. From November 1 to November 8\,  kids can bring in their 
 excess candy to receive $5 for every pound (up to 3[..]\nhttps://looklocal.
 ca/blog/events/smilegroves-charity-halloween-candy-buy-back-program/
URL:https://looklocal.ca/blog/events/smilegroves-charity-halloween-candy-buy-back-program/
END:VEVENT
END:VCALENDAR