BEGIN:VCALENDAR
VERSION:2.0
PRODID:-//eventon.com NONSGML v1.0//EN
CALSCALE:GREGORIAN
METHOD:PUBLISH
BEGIN:VEVENT
UID:69e7a793dd2fe
DTSTAMP:20260421T163635Z
DTSTART:20241120T170000Z
DTEND:20241120T200000Z
LOCATION:Connon Nurseries 656 Robson Road
SUMMARY:Connon Nurseries Makers' Market
DESCRIPTION:Our annual evening Makers&#8217; Market takes place amongst fre
 sh boughs\,  live trees\,  festive plants\,  and lush houseplants! Browse t
 he products of over 50 local vendors that carefully craft their products an
 d delicious wares for all of your gif giving needs. Live music\,  warm beve
 rages from our own café\,  and bites[..]\nhttps://looklocal.ca/blog/events
 /connon-nurseries-makers-market-2/
URL:https://looklocal.ca/blog/events/connon-nurseries-makers-market-2/
END:VEVENT
END:VCALENDAR