BEGIN:VCALENDAR
VERSION:2.0
PRODID:-//eventon.com NONSGML v1.0//EN
CALSCALE:GREGORIAN
METHOD:PUBLISH
BEGIN:VEVENT
UID:69e69c975dbb0
DTSTAMP:20260420T213727Z
DTSTART:20241123T193000Z
DTEND:20241123T220000Z
LOCATION:St. Christopher’s Anglican Church 662 Guelph Line in Burlington
SUMMARY:The Burlington Civic Chorale Fall Concert
DESCRIPTION:Sacred and secular songs to the Virgin Mary &nbsp;sung by a cho
 ir with 30 years of experience\,  directed by Gary Fisher.&nbsp;\nhttps://l
 ooklocal.ca/blog/events/the-burlington-civic-chorale-fall-concert/
URL:https://looklocal.ca/blog/events/the-burlington-civic-chorale-fall-concert/
END:VEVENT
END:VCALENDAR