BEGIN:VCALENDAR
VERSION:2.0
PRODID:-//eventon.com NONSGML v1.0//EN
CALSCALE:GREGORIAN
METHOD:PUBLISH
BEGIN:VEVENT
UID:69e7312a8d976
DTSTAMP:20260421T081122Z
DTSTART:20241201T100000Z
DTEND:20241201T050000Z
LOCATION:Dundas Handmade Market 65 Hatt Street
SUMMARY:7th Annual Christmas Market
DESCRIPTION:Free Admission\,  December 1st from 10am-5pm at 65 Hatt Street 
 in Dundas Ontario\nhttps://looklocal.ca/blog/events/7th-annual-christmas-ma
 rket/
URL:https://looklocal.ca/blog/events/7th-annual-christmas-market/
END:VEVENT
END:VCALENDAR