BEGIN:VCALENDAR
VERSION:2.0
PRODID:-//eventon.com NONSGML v1.0//EN
CALSCALE:GREGORIAN
METHOD:PUBLISH
BEGIN:VEVENT
UID:69e82c9e7e01c
DTSTAMP:20260422T020414Z
DTSTART:20241111T174100Z
DTEND:20241111T174100Z
LOCATION:
SUMMARY:Roam Holiday Market in Aldershot
DESCRIPTION:\nhttps://looklocal.ca/blog/events/roam-holiday-market-in-alder
 shot/
URL:https://looklocal.ca/blog/events/roam-holiday-market-in-aldershot/
END:VEVENT
END:VCALENDAR