BEGIN:VCALENDAR
VERSION:2.0
PRODID:-//eventon.com NONSGML v1.0//EN
CALSCALE:GREGORIAN
METHOD:PUBLISH
BEGIN:VEVENT
UID:69eb4c1d8f0d5
DTSTAMP:20260424T105525Z
DTSTART:20250123T180000Z
DTEND:20250123T213000Z
LOCATION:Theatre Aquarius 190 King William St\,  Hamilton
SUMMARY:BROADWAY TUNES\,  TRIVIA   TREATS
DESCRIPTION:Beat the Winter Blahs and Join Musical Theatre Powerhouse Sherr
 y Garner for a fun Broadway Tunes Sing-A-Long evening. Your ticket includes
  complimentary pub fare and drinks and a guaranteed good time. No singing e
 xperience necessary but unbridled enthusiasm required! Ticket Pricing: $50 
 all inclusive\nhttps://looklocal.ca/blog/events/broadway-tunes-trivia-treat
 s/
URL:https://looklocal.ca/blog/events/broadway-tunes-trivia-treats/
END:VEVENT
END:VCALENDAR