BEGIN:VCALENDAR
VERSION:2.0
PRODID:-//eventon.com NONSGML v1.0//EN
CALSCALE:GREGORIAN
METHOD:PUBLISH
BEGIN:VEVENT
UID:69e6ee1f64775
DTSTAMP:20260421T032519Z
DTSTART:20250115T130000Z
DTEND:20250410T200000Z
LOCATION:Joseph Brant Museum 1240 North Shore Boulevard East
SUMMARY:Special Exhibition:Refuge Canada
DESCRIPTION:Refuge Canada explores Canada’s place in the global refugee c
 risis. Through images\,  soundscapes\,  first person accounts and artifacts
 \,  this powerful exhibition begins “no one wants to be a refugee\,  anyo
 ne could become a refugee.” Moving through major waves of arrival from th
 e WWII era to present day\,  hopeful stories of[..]\nhttps://looklocal.ca/b
 log/events/special-exhibitionrefuge-canada/
URL:https://looklocal.ca/blog/events/special-exhibitionrefuge-canada/
END:VEVENT
END:VCALENDAR