BEGIN:VCALENDAR
VERSION:2.0
PRODID:-//eventon.com NONSGML v1.0//EN
CALSCALE:GREGORIAN
METHOD:PUBLISH
BEGIN:VEVENT
UID:69e6cc1143959
DTSTAMP:20260421T010001Z
DTSTART:20250516T193500Z
DTEND:20250516T223000Z
LOCATION:Bernire Arbour Field 1100 Mohawk Rd E
SUMMARY:Hamilton Cardinals vs Brantford Red Sox - 2025 Home Opener
DESCRIPTION:The&nbsp;Hamilton Cardinals\,  proud members of the&nbsp;Interc
 ounty Baseball League (IBL)\,  bring elite independent baseball to&nbsp;Ber
 nie Arbour Stadium&nbsp;in Hamilton. Established in&nbsp;1919\,  the IBL is
  one of the oldest baseball leagues in the world\,  featuring top-tier tale
 nt\,  including&nbsp;MLB legend Fernando Rodney\, &nbsp;former MVP Tyler Du
 ncan\, &nbsp;IBL Legends Johnathan Solazzo\,  and&nbsp;starting pitcher Owe
 n Boon. Experience the[..]\nhttps://looklocal.ca/blog/events/hamilton-cardi
 nals-vs-brantford-red-sox-2025-home-opener/
URL:https://looklocal.ca/blog/events/hamilton-cardinals-vs-brantford-red-sox-2025-home-opener/
END:VEVENT
END:VCALENDAR