BEGIN:VCALENDAR
VERSION:2.0
PRODID:-//eventon.com NONSGML v1.0//EN
CALSCALE:GREGORIAN
METHOD:PUBLISH
BEGIN:VEVENT
UID:69e5a5bd68022
DTSTAMP:20260420T040413Z
DTSTART:20250523T193500Z
DTEND:20250523T230000Z
LOCATION:Bernire Arbour Field 1100 Mohawk Rd E
SUMMARY:Hamilton Cardinals vs Chatham-Kent Barnstormers - Swing and Sing Musical Night
DESCRIPTION:Hamilton Cardinals vs. Chatham-Kent Barnstormers&nbsp;– 7:35 
 PM First Pitch! Gates open at 6:30 PM—get ready for a night of baseball a
 nd great tunes!&nbsp;It’s&nbsp;Swing and Sing&nbsp;Musical Night&nbsp;at 
 the ballpark\,  where the action on the field meets the magic of music. Enj
 oy a game filled with excitement\,  special musical moments\,  and a[..]\nh
 ttps://looklocal.ca/blog/events/hamilton-cardinals-vs-chatham-kent-barnstor
 mers-swing-and-sing-musical-night/
URL:https://looklocal.ca/blog/events/hamilton-cardinals-vs-chatham-kent-barnstormers-swing-and-sing-musical-night/
END:VEVENT
END:VCALENDAR