BEGIN:VCALENDAR
VERSION:2.0
PRODID:-//eventon.com NONSGML v1.0//EN
CALSCALE:GREGORIAN
METHOD:PUBLISH
BEGIN:VEVENT
UID:69ea3adb2ad57
DTSTAMP:20260423T152931Z
DTSTART:20250419T230000Z
DTEND:20250419T150000Z
LOCATION:Downtown Dundas 116 King St W
SUMMARY:Downtown Dundas' Easter Egg-Stravaganza
DESCRIPTION:Spring is in the air\,  and we’re hopping around in excitemen
 t! Join us here in Downtown Dundas for our Easter Egg-Stravaganza! A fun-fi
 lled day packed with activities\,  live entertainment\,  and festive treats
  for the whole family! Event Highlights: 🐾&nbsp;Little Tracks Petting Zo
 oGet up close with adorable animals at Eccles Auto[..]\nhttps://looklocal.c
 a/blog/events/downtown-dundas-easter-egg-stravaganza/
URL:https://looklocal.ca/blog/events/downtown-dundas-easter-egg-stravaganza/
END:VEVENT
END:VCALENDAR