BEGIN:VCALENDAR
VERSION:2.0
PRODID:-//eventon.com NONSGML v1.0//EN
CALSCALE:GREGORIAN
METHOD:PUBLISH
BEGIN:VEVENT
UID:69ebe8b557905
DTSTAMP:20260424T220333Z
DTSTART:20250419T100000Z
DTEND:20250419T160000Z
LOCATION:Bronte Creek Provincial Park 1219 Burloak Drive
SUMMARY:Victorian Easter At Bronte Creek Provincial Park
DESCRIPTION:Enjoy a Victorian Easter with traditions from over 100 years ag
 o! Visit the Children’s Farm for an Easter Egg Hunt and other Egg-cellent
  activities. Your visit includes a story trail\,  Victorian games\,  farm a
 nimals\,  a scavenger hunt\,  Gnome Road\,  and the Playbarn. The Friends o
 f Bronte Creek Park will also[..]\nhttps://looklocal.ca/blog/events/victori
 an-easter-at-bronte-creek/
URL:https://looklocal.ca/blog/events/victorian-easter-at-bronte-creek/
END:VEVENT
END:VCALENDAR