BEGIN:VCALENDAR
VERSION:2.0
PRODID:-//eventon.com NONSGML v1.0//EN
CALSCALE:GREGORIAN
METHOD:PUBLISH
BEGIN:VEVENT
UID:69eb753c8c81d
DTSTAMP:20260424T135052Z
DTSTART:20250425T120000Z
DTEND:20250427T190000Z
LOCATION:Summer and Grace Gallery 350 Lakeshore Road East
SUMMARY:Waterside Art Group Imagine Show and Sale
DESCRIPTION:Showcasing over 100 paintings by Waterside’s talented members
 \,  with 15% of sales donated to Halton’s Women’s Place. All are welcom
 e for the preview reception on Friday. By attending you can give back to a 
 local women’s shelter\,  support local artists and enjoy the beauty of do
 wntown Oakville. 12 to 7[..]\nhttps://looklocal.ca/blog/events/womens-group
 -art-sale/
URL:https://looklocal.ca/blog/events/womens-group-art-sale/
END:VEVENT
END:VCALENDAR