BEGIN:VCALENDAR
VERSION:2.0
PRODID:-//eventon.com NONSGML v1.0//EN
CALSCALE:GREGORIAN
METHOD:PUBLISH
BEGIN:VEVENT
UID:69e9d348aa146
DTSTAMP:20260423T080736Z
DTSTART:20250414T160000Z
DTEND:20250414T190700Z
LOCATION:Steam Whistle Brewery The Roundhouse - 255 Bremner Blvd Toronto\,  ON\,  Canada\,  M5V 3M9
SUMMARY:Steam Whistle Tailgate
DESCRIPTION:The Steam Whistle Tailgate is BACK for the season! 🍻⚾️
  Before you catch the baseball action next door\,  join us at the Steam Wh
 istle Roundhouse for the ultimate tailgate! The grill will be on with burge
 rs\,  hot dogs and bites for the whole family! And of course\,  the beer wi
 ll[..]\nhttps://looklocal.ca/blog/events/steam-whistle-tailgate/
URL:https://looklocal.ca/blog/events/steam-whistle-tailgate/
END:VEVENT
END:VCALENDAR