BEGIN:VCALENDAR
VERSION:2.0
PRODID:-//eventon.com NONSGML v1.0//EN
CALSCALE:GREGORIAN
METHOD:PUBLISH
BEGIN:VEVENT
UID:69e76971c5050
DTSTAMP:20260421T121129Z
DTSTART:20251115T193000Z
DTEND:20251115T235900Z
LOCATION:Burlington Performing Arts Centre 440 Locust St\,  Burlington\,  ON L7S 1T7
SUMMARY:Some Enchanted Evening: A Celebration of Musical Theatre Past and Present
DESCRIPTION:Some Enchanted Evening&nbsp;is a gala celebration of the glorie
 s of classic and contemporary musical theatre\,  featuring CBC Radio Host\,
   mezzo-soprano Julie Nesrallah; legendary operatic baritone Gino Quilico a
 nd Classical 96 Host\,  concert pianist Daniel Vnukowski\,  who created a s
 ensation in 2024’s&nbsp;Rhapsody in Blue&nbsp;Gershwin concert. Beloved s
 elections from&nbsp;West Side Story\,  Carousel\, [..]\nhttps://looklocal.c
 a/blog/events/some-enchanted-evening-a-celebration-of-musical-theatre-past-
 and-present/
URL:https://looklocal.ca/blog/events/some-enchanted-evening-a-celebration-of-musical-theatre-past-and-present/
END:VEVENT
END:VCALENDAR