BEGIN:VCALENDAR
VERSION:2.0
PRODID:-//eventon.com NONSGML v1.0//EN
CALSCALE:GREGORIAN
METHOD:PUBLISH
BEGIN:VEVENT
UID:69e7314cceac9
DTSTAMP:20260421T081156Z
DTSTART:20260211T193000Z
DTEND:20260211T040900Z
LOCATION:Burlington Performing Arts Centre 440 Locust St\,  Burlington\,  ON L7S 1T7
SUMMARY:Jully Black
DESCRIPTION:Jully Black is a true Canadian Icon. Named as one of ‘The 25 
 Greatest Canadian Singers Ever’\,  (CBC Music) she has been dubbed ‘Can
 ada’s Queen of R&amp;B Soul’ by fans and industry leaders alike. As a p
 latinum-selling recording artist\,  her music career has yielded multiple s
 ingles reaching the Top 10[..]\nhttps://looklocal.ca/blog/events/jully-blac
 k/
URL:https://looklocal.ca/blog/events/jully-black/
END:VEVENT
END:VCALENDAR