BEGIN:VCALENDAR
VERSION:2.0
PRODID:-//eventon.com NONSGML v1.0//EN
CALSCALE:GREGORIAN
METHOD:PUBLISH
BEGIN:VEVENT
UID:69e5ee330b46a
DTSTAMP:20260420T091323Z
DTSTART:20251016T110000Z
DTEND:20251016T130000Z
LOCATION:Achev 690 Dorval Dr.\,  Suite 100\,  Oakville\,  L6K 3X9
SUMMARY:Senior Day Celebration
DESCRIPTION:Join us to celebrate Senior Day with a fun chair yoga session! 
 The session includes: Yoga using the chair and the wall Restorative\,  stre
 tching\,  and strength poses Breathing exercises Qi Gong exercises Relaxing
  time Refreshments will be provided\,  and you’ll get a chance to win pri
 zes in our raffle drawings.\nhttps://looklocal.ca/blog/events/senior-day-ce
 lebration/
URL:https://looklocal.ca/blog/events/senior-day-celebration/
END:VEVENT
END:VCALENDAR