BEGIN:VCALENDAR
VERSION:2.0
PRODID:-//eventon.com NONSGML v1.0//EN
CALSCALE:GREGORIAN
METHOD:PUBLISH
BEGIN:VEVENT
UID:69e7318d5eb4a
DTSTAMP:20260421T081301Z
DTSTART:20251205T180000Z
DTEND:20251205T210000Z
LOCATION:Ireland House Museum 2168 Guelph Line\,  Burlington\,  Ontario
SUMMARY:A Night at Ireland House
DESCRIPTION:Eat\,  drink and be merry! Step back in time and celebrate the 
 holidays during “A Night At Ireland House.” Guests will spend the eveni
 ng sampling traditional Victorian foods served from the hearth and woodstov
 e while touring the historic house. There will also be the opportunity to s
 ip local wine and[..]\nhttps://looklocal.ca/blog/events/a-night-at-ireland-
 house-3/
URL:https://looklocal.ca/blog/events/a-night-at-ireland-house-3/
END:VEVENT
END:VCALENDAR