BEGIN:VCALENDAR
VERSION:2.0
PRODID:-//eventon.com NONSGML v1.0//EN
CALSCALE:GREGORIAN
METHOD:PUBLISH
BEGIN:VEVENT
UID:69e731ab90777
DTSTAMP:20260421T081331Z
DTSTART:20251115T090000Z
DTEND:20251115T140000Z
LOCATION:St. John's Anglican Church 2464 Dundas Street\,  Burlington
SUMMARY:St John's Christmas Market
DESCRIPTION:Get in the spirit of the season with this annual tradition! Fin
 d Christmas gifts\,  decorations\,  books\,  baked goods\,  handmade crafts
 \,  and enjoy a festive lunch at the Bistro. 9 am &#8211; 2 pmSt. John&#821
 7;s Anglican Church2464 Dundas Street\,  Burlingtonstjohnsburlington.ca\nht
 tps://looklocal.ca/blog/events/st-johns-christmas-market/
URL:https://looklocal.ca/blog/events/st-johns-christmas-market/
END:VEVENT
END:VCALENDAR