BEGIN:VCALENDAR
VERSION:2.0
PRODID:-//eventon.com NONSGML v1.0//EN
CALSCALE:GREGORIAN
METHOD:PUBLISH
BEGIN:VEVENT
UID:69e749d560ca4
DTSTAMP:20260421T095637Z
DTSTART:20251221T180000Z
DTEND:20251221T220000Z
LOCATION:
SUMMARY:Jingle Beats Silent Disco
DESCRIPTION:Dance like nobody’s watching — or listening! Sign up for a 
 one-hour session at our Holiday Silent Disco and groove to your favourite f
 estive hits. Fun for the whole family\nhttps://looklocal.ca/blog/events/jin
 gle-beats-silent-disco/
URL:https://looklocal.ca/blog/events/jingle-beats-silent-disco/
END:VEVENT
END:VCALENDAR