BEGIN:VCALENDAR
VERSION:2.0
PRODID:-//eventon.com NONSGML v1.0//EN
CALSCALE:GREGORIAN
METHOD:PUBLISH
BEGIN:VEVENT
UID:69e4d452cc226
DTSTAMP:20260419T131042Z
DTSTART:20260304T140000Z
DTEND:20260304T160000Z
LOCATION:Taste of Colombia 67 Bronte Rd. Unit #3
SUMMARY:Pop Up Travel Event
DESCRIPTION:Presentation Starting at 2:00pm on MARCH 4TH at Taste of Colomb
 ia 67 Bronte Rd\,  Oakville ON L6L3B7 Phone: 905-827-1100www.McTavish.comMc
 Tavish Travel\nhttps://looklocal.ca/blog/events/pop-up-travel-event-4/
URL:https://looklocal.ca/blog/events/pop-up-travel-event-4/
END:VEVENT
END:VCALENDAR