BEGIN:VCALENDAR
VERSION:2.0
PRODID:-//eventon.com NONSGML v1.0//EN
CALSCALE:GREGORIAN
METHOD:PUBLISH
BEGIN:VEVENT
UID:69e739021fcc7
DTSTAMP:20260421T084450Z
DTSTART:20260503T110000Z
DTEND:20260503T160000Z
LOCATION:Shawn &amp; Ed Brewing Co 65 Hatt St Dundas
SUMMARY:HAPPY SPRING - a handmade craft market
DESCRIPTION:A taproom takeover in Dundas at Shawn &amp; Ed Brewing Co. Disc
 over a curated collection of 30 makers\,  just in time for Mother’s Day! 
 Back by popular demand\,  HAPPY SPRING is taking place on MAY 3 at our new 
 fave brewery &#8211; Shawn &amp; Ed’s in Dundas. Discover a curated[..]\n
 https://looklocal.ca/blog/events/happy-spring-a-handmade-craft-market/
URL:https://looklocal.ca/blog/events/happy-spring-a-handmade-craft-market/
END:VEVENT
END:VCALENDAR