BEGIN:VCALENDAR
VERSION:2.0
PRODID:-//eventon.com NONSGML v1.0//EN
CALSCALE:GREGORIAN
METHOD:PUBLISH
BEGIN:VEVENT
UID:69e88e3d0df78
DTSTAMP:20260422T090045Z
DTSTART:20260425T100000Z
DTEND:20260425T120000Z
LOCATION:Bronte Creek Provincial Park 1219 Burloak Drive
SUMMARY:Earth Day Clean-Up at Bronte Creek Provincial Park
DESCRIPTION:Help clean the park alongside community volunteers. It’s exer
 cise for the greater good. Supplies provided; all ages welcome. 10 am to 12
  pm Bronte Creek Provincial Park1219 Burloak Drive\,  Oakvilleontarioparks.
 ca/park/brontecreek/events\nhttps://looklocal.ca/blog/events/earth-day-clea
 n-up-at-bronte-creek-provincial-park-2/
URL:https://looklocal.ca/blog/events/earth-day-clean-up-at-bronte-creek-provincial-park-2/
END:VEVENT
END:VCALENDAR